BEGIN:VCALENDAR
VERSION:2.0
PRODID:-//Society of Saint John Chrysostom - ECPv6.15.20//NONSGML v1.0//EN
CALSCALE:GREGORIAN
METHOD:PUBLISH
X-ORIGINAL-URL:https://ssjc.uk
X-WR-CALDESC:Events for Society of Saint John Chrysostom
REFRESH-INTERVAL;VALUE=DURATION:PT1H
X-Robots-Tag:noindex
X-PUBLISHED-TTL:PT1H
BEGIN:VTIMEZONE
TZID:Europe/London
BEGIN:DAYLIGHT
TZOFFSETFROM:+0000
TZOFFSETTO:+0100
TZNAME:BST
DTSTART:20130331T010000
END:DAYLIGHT
BEGIN:STANDARD
TZOFFSETFROM:+0100
TZOFFSETTO:+0000
TZNAME:GMT
DTSTART:20131027T010000
END:STANDARD
BEGIN:DAYLIGHT
TZOFFSETFROM:+0000
TZOFFSETTO:+0100
TZNAME:BST
DTSTART:20140330T010000
END:DAYLIGHT
BEGIN:STANDARD
TZOFFSETFROM:+0100
TZOFFSETTO:+0000
TZNAME:GMT
DTSTART:20141026T010000
END:STANDARD
BEGIN:DAYLIGHT
TZOFFSETFROM:+0000
TZOFFSETTO:+0100
TZNAME:BST
DTSTART:20150329T010000
END:DAYLIGHT
BEGIN:STANDARD
TZOFFSETFROM:+0100
TZOFFSETTO:+0000
TZNAME:GMT
DTSTART:20151025T010000
END:STANDARD
END:VTIMEZONE
BEGIN:VEVENT
DTSTART;TZID=Europe/London:20140301T100000
DTEND;TZID=Europe/London:20140301T163000
DTSTAMP:20260423T202423
CREATED:20211004T151500Z
LAST-MODIFIED:20240424T151236Z
UID:3652-1393668000-1393691400@ssjc.uk
SUMMARY:Middle East Day of Prayer: Arab Spring or Religious Winter?
DESCRIPTION:Middle East Day of Prayer: Arab Spring or Religious Winter?\nled by Mgr Keith Barltrop and Fr Shafiq Abouzayd (Melkite Greek Catholic Church)\nFor the peace and freedom of the people and the Church in Syria\, Iraq\, Egypt\, Lebanon and the Holy Land\n10 am Introduction\n10.20 am Rosary\n11.10 am Prayer of St Michael the Archangel & Divine Mercy Chaplet\n11.30 am Holy Hour of Reparation\n12.30 pm Mass\n2.15 pm Address: Arab Spring or Religious Winter – Rev. Nadim Nassar\, Awareness Foundation\n2.50 pm Adoration of the Blessed Sacrament\n3.30 pm Healing Service and Benediction\n4 pm Act of Consecration of the Middle East to the Prayers of the Immaculate and Sorrowful Mother of God\nSt Mary of the Angels Catholic Church\, Moorhouse Road\, Bayswater\, W2 5DJ\nNearest tubes: Notting Hill Gate and Westbourne Grove
URL:https://ssjc.uk/event/middle-east-day-of-prayer-arab-spring-or-religious-winter/
LOCATION:St. Mary of the Angels Catholic Church\, Moorhouse Road\, Bayswater\, London\, W2 5DJ\, United Kingdom
CATEGORIES:Conferences
ATTACH;FMTTYPE=image/jpeg:https://ssjc.uk/wp-content/uploads/2024/04/St_Marys_of_the_Angels-scaled.jpg
END:VEVENT
END:VCALENDAR